BEGIN:VCALENDAR
VERSION:2.0
PRODID:-//DA Jalandhar Junior - ECPv6.0.12//NONSGML v1.0//EN
CALSCALE:GREGORIAN
METHOD:PUBLISH
X-WR-CALNAME:DA Jalandhar Junior
X-ORIGINAL-URL:https://jalandharjw.darshanacademy.org
X-WR-CALDESC:Events for DA Jalandhar Junior
REFRESH-INTERVAL;VALUE=DURATION:PT1H
X-Robots-Tag:noindex
X-PUBLISHED-TTL:PT1H
BEGIN:VTIMEZONE
TZID:America/Los_Angeles
BEGIN:DAYLIGHT
TZOFFSETFROM:-0800
TZOFFSETTO:-0700
TZNAME:PDT
DTSTART:20230312T100000
END:DAYLIGHT
BEGIN:STANDARD
TZOFFSETFROM:-0700
TZOFFSETTO:-0800
TZNAME:PST
DTSTART:20231105T090000
END:STANDARD
END:VTIMEZONE
BEGIN:VEVENT
DTSTART;TZID=America/Los_Angeles:20230529T000000
DTEND;TZID=America/Los_Angeles:20230603T000000
DTSTAMP:20260420T062028
CREATED:20230510T071237Z
LAST-MODIFIED:20230510T071237Z
UID:4079-1685318400-1685750400@jalandharjw.darshanacademy.org
SUMMARY:SUMMER CAMP
DESCRIPTION:
URL:https://jalandharjw.darshanacademy.org/event/summer-camp/
CATEGORIES:EVENT
END:VEVENT
BEGIN:VEVENT
DTSTART;TZID=America/Los_Angeles:20230528T000000
DTEND;TZID=America/Los_Angeles:20230630T000000
DTSTAMP:20260420T062028
CREATED:20230510T071247Z
LAST-MODIFIED:20230510T071247Z
UID:4081-1685232000-1688083200@jalandharjw.darshanacademy.org
SUMMARY:SUMMER VACATION
DESCRIPTION:
URL:https://jalandharjw.darshanacademy.org/event/summer-vacation/
CATEGORIES:HOLIDAYS
END:VEVENT
BEGIN:VEVENT
DTSTART;TZID=America/Los_Angeles:20230527T000000
DTEND;TZID=America/Los_Angeles:20230527T000000
DTSTAMP:20260420T062028
CREATED:20230510T071238Z
LAST-MODIFIED:20230510T071238Z
UID:4080-1685145600-1685145600@jalandharjw.darshanacademy.org
SUMMARY:FOURTH SATURDAY
DESCRIPTION:
URL:https://jalandharjw.darshanacademy.org/event/fourth-saturday/
CATEGORIES:HOLIDAY
END:VEVENT
BEGIN:VEVENT
DTSTART;TZID=America/Los_Angeles:20230524T000000
DTEND;TZID=America/Los_Angeles:20230524T000000
DTSTAMP:20260420T062028
CREATED:20230510T071231Z
LAST-MODIFIED:20230510T071231Z
UID:4074-1684886400-1684886400@jalandharjw.darshanacademy.org
SUMMARY:INVESTITURE CEREMONY
DESCRIPTION:
URL:https://jalandharjw.darshanacademy.org/event/investiture-ceremony/
CATEGORIES:EVENT
END:VEVENT
BEGIN:VEVENT
DTSTART;TZID=America/Los_Angeles:20230523T000000
DTEND;TZID=America/Los_Angeles:20230523T000000
DTSTAMP:20260420T062028
CREATED:20230510T071237Z
LAST-MODIFIED:20230510T071237Z
UID:4078-1684800000-1684800000@jalandharjw.darshanacademy.org
SUMMARY:SHRI GURU ARJHAN SINGH JI MARTYDOM DAY
DESCRIPTION:
URL:https://jalandharjw.darshanacademy.org/event/shri-guru-arjhan-singh-ji-martydom-day/
CATEGORIES:HOLIDAY
END:VEVENT
BEGIN:VEVENT
DTSTART;TZID=America/Los_Angeles:20230522T000000
DTEND;TZID=America/Los_Angeles:20230522T000000
DTSTAMP:20260420T062028
CREATED:20230510T071237Z
LAST-MODIFIED:20230510T071237Z
UID:4077-1684713600-1684713600@jalandharjw.darshanacademy.org
SUMMARY:ENGLISH POEM RECITATION
DESCRIPTION:
URL:https://jalandharjw.darshanacademy.org/event/english-poem-recitation/
CATEGORIES:EVENT
END:VEVENT
BEGIN:VEVENT
DTSTART;TZID=America/Los_Angeles:20230520T000000
DTEND;TZID=America/Los_Angeles:20230520T000000
DTSTAMP:20260420T062028
CREATED:20230510T071237Z
LAST-MODIFIED:20230510T071237Z
UID:4076-1684540800-1684540800@jalandharjw.darshanacademy.org
SUMMARY:PTM (ALL CLASSES)
DESCRIPTION:
URL:https://jalandharjw.darshanacademy.org/event/ptm-all-classes/
CATEGORIES:PTM
END:VEVENT
BEGIN:VEVENT
DTSTART;TZID=America/Los_Angeles:20230519T000000
DTEND;TZID=America/Los_Angeles:20230520T000000
DTSTAMP:20260420T062028
CREATED:20230510T071231Z
LAST-MODIFIED:20230510T071231Z
UID:4075-1684454400-1684540800@jalandharjw.darshanacademy.org
SUMMARY:NATIONAL WORKSHOP FOR SPIRITUAL CURRICULUM TEACHING TIPS
DESCRIPTION:
URL:https://jalandharjw.darshanacademy.org/event/national-workshop-for-spiritual-curriculum-teaching-tips/
CATEGORIES:PROFESSIONAL DEVELOPMENT PROGRAMME
END:VEVENT
BEGIN:VEVENT
DTSTART;TZID=America/Los_Angeles:20230516T000000
DTEND;TZID=America/Los_Angeles:20230516T000000
DTSTAMP:20260420T062028
CREATED:20230510T071231Z
LAST-MODIFIED:20230510T071231Z
UID:4073-1684195200-1684195200@jalandharjw.darshanacademy.org
SUMMARY:TALENT HUNT FOR NEW STUDENTS
DESCRIPTION:
URL:https://jalandharjw.darshanacademy.org/event/talent-hunt-for-new-students/
CATEGORIES:EVENT
END:VEVENT
BEGIN:VEVENT
DTSTART;TZID=America/Los_Angeles:20230513T000000
DTEND;TZID=America/Los_Angeles:20230513T000000
DTSTAMP:20260420T062028
CREATED:20230510T071231Z
LAST-MODIFIED:20230510T071231Z
UID:4072-1683936000-1683936000@jalandharjw.darshanacademy.org
SUMMARY:MOTHERS DAY CELEBRATION
DESCRIPTION:
URL:https://jalandharjw.darshanacademy.org/event/mothers-day-celebration/
CATEGORIES:EVENT
END:VEVENT
BEGIN:VEVENT
DTSTART;TZID=America/Los_Angeles:20230501T000000
DTEND;TZID=America/Los_Angeles:20230501T000000
DTSTAMP:20260420T062028
CREATED:20230510T071231Z
LAST-MODIFIED:20230510T071231Z
UID:4071-1682899200-1682899200@jalandharjw.darshanacademy.org
SUMMARY:LABOUR DAY
DESCRIPTION:
URL:https://jalandharjw.darshanacademy.org/event/labour-day/
CATEGORIES:EVENT
END:VEVENT
BEGIN:VEVENT
DTSTART;TZID=America/Los_Angeles:20230425T000000
DTEND;TZID=America/Los_Angeles:20230425T000000
DTSTAMP:20260420T062028
CREATED:20230510T071222Z
LAST-MODIFIED:20230510T071222Z
UID:4070-1682380800-1682380800@jalandharjw.darshanacademy.org
SUMMARY:TOYS FROM TRASH I-V
DESCRIPTION:
URL:https://jalandharjw.darshanacademy.org/event/toys-from-trash-i-v/
CATEGORIES:EVENT
END:VEVENT
BEGIN:VEVENT
DTSTART;TZID=America/Los_Angeles:20230424T000000
DTEND;TZID=America/Los_Angeles:20230424T000000
DTSTAMP:20260420T062028
CREATED:20230510T071222Z
LAST-MODIFIED:20230510T071222Z
UID:4069-1682294400-1682294400@jalandharjw.darshanacademy.org
SUMMARY:ORIENTATION PROGRAM FOR NEW PARENTS
DESCRIPTION:
URL:https://jalandharjw.darshanacademy.org/event/orientation-program-for-new-parents/
CATEGORIES:EVENT
END:VEVENT
BEGIN:VEVENT
DTSTART;TZID=America/Los_Angeles:20230422T000000
DTEND;TZID=America/Los_Angeles:20230422T000000
DTSTAMP:20260420T062028
CREATED:20230510T071222Z
LAST-MODIFIED:20230510T071222Z
UID:4068-1682121600-1682121600@jalandharjw.darshanacademy.org
SUMMARY:FOURTH SATURDAY/EID UL JUHA
DESCRIPTION:
URL:https://jalandharjw.darshanacademy.org/event/fourth-saturday-eid-ul-juha/
CATEGORIES:HOLIDAY
END:VEVENT
BEGIN:VEVENT
DTSTART;TZID=America/Los_Angeles:20230421T000000
DTEND;TZID=America/Los_Angeles:20230421T000000
DTSTAMP:20260420T062028
CREATED:20230510T071222Z
LAST-MODIFIED:20230510T071222Z
UID:4067-1682035200-1682035200@jalandharjw.darshanacademy.org
SUMMARY:EARTH DAY
DESCRIPTION:
URL:https://jalandharjw.darshanacademy.org/event/earth-day/
CATEGORIES:EVENT
END:VEVENT
BEGIN:VEVENT
DTSTART;TZID=America/Los_Angeles:20230418T000000
DTEND;TZID=America/Los_Angeles:20230418T000000
DTSTAMP:20260420T062028
CREATED:20230510T071221Z
LAST-MODIFIED:20230510T071221Z
UID:4066-1681776000-1681776000@jalandharjw.darshanacademy.org
SUMMARY:CAROM COMPETITION (III-V)
DESCRIPTION:
URL:https://jalandharjw.darshanacademy.org/event/carom-competition-iii-v/
CATEGORIES:EVENT
END:VEVENT
BEGIN:VEVENT
DTSTART;TZID=America/Los_Angeles:20230417T000000
DTEND;TZID=America/Los_Angeles:20230417T000000
DTSTAMP:20260420T062028
CREATED:20230510T071212Z
LAST-MODIFIED:20230510T071212Z
UID:4065-1681689600-1681689600@jalandharjw.darshanacademy.org
SUMMARY:COLOUR AND THEME (PRE PRIMARY)
DESCRIPTION:
URL:https://jalandharjw.darshanacademy.org/event/colour-and-theme-pre-primary/
CATEGORIES:EVENT
END:VEVENT
BEGIN:VEVENT
DTSTART;TZID=America/Los_Angeles:20230414T000000
DTEND;TZID=America/Los_Angeles:20230414T000000
DTSTAMP:20260420T062028
CREATED:20230510T071211Z
LAST-MODIFIED:20230510T071211Z
UID:4064-1681430400-1681430400@jalandharjw.darshanacademy.org
SUMMARY:BAISAKHI /B.R AMBEDKAR
DESCRIPTION:
URL:https://jalandharjw.darshanacademy.org/event/baisakhi-b-r-ambedkar/
CATEGORIES:HOLIDAY
END:VEVENT
BEGIN:VEVENT
DTSTART;TZID=America/Los_Angeles:20230413T000000
DTEND;TZID=America/Los_Angeles:20230413T000000
DTSTAMP:20260420T062028
CREATED:20230510T071211Z
LAST-MODIFIED:20230510T071211Z
UID:4063-1681344000-1681344000@jalandharjw.darshanacademy.org
SUMMARY:BAISAKHI CELEBRATION
DESCRIPTION:
URL:https://jalandharjw.darshanacademy.org/event/baisakhi-celebration/
CATEGORIES:EVENT
END:VEVENT
BEGIN:VEVENT
DTSTART;TZID=America/Los_Angeles:20230410T000000
DTEND;TZID=America/Los_Angeles:20230410T000000
DTSTAMP:20260420T062028
CREATED:20230510T071211Z
LAST-MODIFIED:20230510T071211Z
UID:4062-1681084800-1681084800@jalandharjw.darshanacademy.org
SUMMARY:WELCOME PARTY NUR-UKG
DESCRIPTION:
URL:https://jalandharjw.darshanacademy.org/event/welcome-party-nur-ukg/
CATEGORIES:EVENT
END:VEVENT
BEGIN:VEVENT
DTSTART;TZID=America/Los_Angeles:20230408T000000
DTEND;TZID=America/Los_Angeles:20230408T000000
DTSTAMP:20260420T062028
CREATED:20230510T071211Z
LAST-MODIFIED:20230510T071211Z
UID:4061-1680912000-1680912000@jalandharjw.darshanacademy.org
SUMMARY:BIRTHDAY OF GURU NABHA DASS JI
DESCRIPTION:
URL:https://jalandharjw.darshanacademy.org/event/birthday-of-guru-nabha-dass-ji/
CATEGORIES:HOLIDAY
END:VEVENT
BEGIN:VEVENT
DTSTART;TZID=America/Los_Angeles:20230407T000000
DTEND;TZID=America/Los_Angeles:20230407T000000
DTSTAMP:20260420T062028
CREATED:20230510T071209Z
LAST-MODIFIED:20230510T071209Z
UID:4060-1680825600-1680825600@jalandharjw.darshanacademy.org
SUMMARY:GOOD FRIDAY
DESCRIPTION:
URL:https://jalandharjw.darshanacademy.org/event/good-friday/
CATEGORIES:HOLIDAY
END:VEVENT
BEGIN:VEVENT
DTSTART;TZID=America/Los_Angeles:20230406T000000
DTEND;TZID=America/Los_Angeles:20230406T000000
DTSTAMP:20260420T062028
CREATED:20230510T071209Z
LAST-MODIFIED:20230510T071209Z
UID:4058-1680739200-1680739200@jalandharjw.darshanacademy.org
SUMMARY:PTM (PRE PRIMARY)
DESCRIPTION:
URL:https://jalandharjw.darshanacademy.org/event/ptm-pre-primary/
CATEGORIES:PTM
END:VEVENT
BEGIN:VEVENT
DTSTART;TZID=America/Los_Angeles:20230405T000000
DTEND;TZID=America/Los_Angeles:20230405T000000
DTSTAMP:20260420T062028
CREATED:20230510T071209Z
LAST-MODIFIED:20230510T071209Z
UID:4059-1680652800-1680652800@jalandharjw.darshanacademy.org
SUMMARY:ORIENTATION PROGRAM PRE PRIMARY
DESCRIPTION:
URL:https://jalandharjw.darshanacademy.org/event/orientation-program-pre-primary/
CATEGORIES:EVENT
END:VEVENT
BEGIN:VEVENT
DTSTART;TZID=America/Los_Angeles:20230404T000000
DTEND;TZID=America/Los_Angeles:20230404T000000
DTSTAMP:20260420T062028
CREATED:20230510T071209Z
LAST-MODIFIED:20230510T071209Z
UID:4057-1680566400-1680566400@jalandharjw.darshanacademy.org
SUMMARY:MAHAVIR JAYANTI
DESCRIPTION:
URL:https://jalandharjw.darshanacademy.org/event/mahavir-jayanti/
CATEGORIES:HOLIDAY
END:VEVENT
BEGIN:VEVENT
DTSTART;TZID=America/Los_Angeles:20230401T000000
DTEND;TZID=America/Los_Angeles:20230401T000000
DTSTAMP:20260420T062028
CREATED:20230510T071209Z
LAST-MODIFIED:20230510T071209Z
UID:4056-1680307200-1680307200@jalandharjw.darshanacademy.org
SUMMARY:START OF NEW SESSION FOR STUDENTS
DESCRIPTION:
URL:https://jalandharjw.darshanacademy.org/event/start-of-new-session-for-students/
CATEGORIES:OTHER
END:VEVENT
END:VCALENDAR